BEGIN:VCALENDAR
VERSION:2.0
PRODID:-//ChamberMaster//Event Calendar 2.0//EN
METHOD:PUBLISH
X-PUBLISHED-TTL:P3D
REFRESH-INTERVAL:P3D
CALSCALE:GREGORIAN
BEGIN:VEVENT
DTSTART:20200123T003000Z
DTEND:20200123T030000Z
X-MICROSOFT-CDO-ALLDAYEVENT:FALSE
SUMMARY:Real Housewives Trivia
DESCRIPTION:Join us at Happy Camper Wrigley for Real Housewives Trivia! We will be featuring half off bottles of wine and White Claw buckets. Trivia winner(s) will receive some awesome prizes! \n\n\n\nThis RSVP is for entry only\; no saved space. Reserve your table here : http://happycamper.pizza/wrigley\n\n\n\nAll teams must check-in by 6:45pm\; trivia will start at 7pm
X-ALT-DESC;FMTTYPE=text/html:<span style="color: rgb(29\, 33\, 41)\; font-family: Helvetica\, Arial\, sans-serif\; font-size: 14px\; white-space: pre-wrap\; background-color: rgb(255\, 255\, 255)\;">Join us at Happy Camper Wrigley for Real Housewives Trivia! We will be featuring half off bottles of wine and White Claw buckets. Trivia winner(s) will receive some awesome prizes! </span><br style="color: rgb(29\, 33\, 41)\; font-family: Helvetica\, Arial\, sans-serif\; font-size: 14px\; white-space: pre-wrap\; background-color: rgb(255\, 255\, 255)\;" />\n<br style="color: rgb(29\, 33\, 41)\; font-family: Helvetica\, Arial\, sans-serif\; font-size: 14px\; white-space: pre-wrap\; background-color: rgb(255\, 255\, 255)\;" />\n<span style="color: rgb(29\, 33\, 41)\; font-family: Helvetica\, Arial\, sans-serif\; font-size: 14px\; white-space: pre-wrap\; background-color: rgb(255\, 255\, 255)\;">This RSVP is for entry only\; no saved space. Reserve your table here : </span><a data-lynx-mode="hover" data-lynx-uri="https://l.facebook.com/l.php?u=http%3A%2F%2Fhappycamper.pizza%2Fwrigley%3Ffbclid%3DIwAR0d37yWP-V8ME-BqiwQad6TJmgZTshFqultF77puDX5m13CCg45ZA8tAEg&amp\;h=AT3AIJK2PrDEVJbqFenaeze3hY00DfWY6AM6UtIxzswVgXDhZasjaNPBYwMQ-H9nZ95rgtzevzu_l6UTGjA6vGphRE7iF7y-AAfm-hg0O3pP_KHRmsFZdCDMH0Gu5HASxcfZ" href="http://happycamper.pizza/wrigley?fbclid=IwAR0d37yWP-V8ME-BqiwQad6TJmgZTshFqultF77puDX5m13CCg45ZA8tAEg" rel="nofollow noopener" style="color: rgb(56\, 88\, 152)\; cursor: pointer\; text-decoration-line: none\; font-family: Helvetica\, Arial\, sans-serif\; font-size: 14px\; white-space: pre-wrap\; background-color: rgb(255\, 255\, 255)\;" target="_blank">http://happycamper.pizza/wrigley</a><br style="color: rgb(29\, 33\, 41)\; font-family: Helvetica\, Arial\, sans-serif\; font-size: 14px\; white-space: pre-wrap\; background-color: rgb(255\, 255\, 255)\;" />\n<br style="color: rgb(29\, 33\, 41)\; font-family: Helvetica\, Arial\, sans-serif\; font-size: 14px\; white-space: pre-wrap\; background-color: rgb(255\, 255\, 255)\;" />\n<span style="color: rgb(29\, 33\, 41)\; font-family: Helvetica\, Arial\, sans-serif\; font-size: 14px\; white-space: pre-wrap\; background-color: rgb(255\, 255\, 255)\;">All teams must check-in by 6:45pm\; trivia will start at 7pm</span>
LOCATION:Happy Camper Wrigleyville 3458 N. Clark
UID:e.1406.38446
SEQUENCE:3
DTSTAMP:20260420T232619Z
URL:https://chicago.lakevieweast.com/events/details/real-housewives-trivia-38446
END:VEVENT

END:VCALENDAR
