BEGIN:VCALENDAR
VERSION:2.0
PRODID:-//ChamberMaster//Event Calendar 2.0//EN
METHOD:PUBLISH
X-PUBLISHED-TTL:P3D
REFRESH-INTERVAL:P3D
CALSCALE:GREGORIAN
BEGIN:VEVENT
DTSTART:20260530T180000Z
DTEND:20260530T193000Z
X-MICROSOFT-CDO-ALLDAYEVENT:FALSE
SUMMARY:Partnered Massage Class
DESCRIPTION:Come learn massage techniques to help you & your friend\, partner\, relative\, roommate\, or your significant whom ever relax and de-stress.\n\nIn this 90 minute class you'll each learn & receive massage care from head to toe!\n\nWe'll focus on typical chronic areas of tension in the body\, and demonstrate how to help each other maintain wellness and experience relief on a regular basis.\n\nNo massage table is needed! Please bring a yoga mat if possible.\n\n\n\nREGISTER HERE: https://app.acuityscheduling.com/schedule/cdd1e758/?appointmentTypeIds[]=89896466
X-ALT-DESC;FMTTYPE=text/html:<p>Come learn massage techniques to help you &amp\; your friend\, partner\, relative\, roommate\, or your significant whom ever relax and de-stress.</p>\n\n<p>In this 90 minute class you&rsquo\;ll each learn &amp\; receive massage care from head to toe!</p>\n\n<p>We&rsquo\;ll focus on typical chronic areas of tension in the body\, and demonstrate how to help each other maintain wellness and experience relief on a regular basis.</p>\n\n<p>No massage table is needed! Please bring a yoga mat if possible.<br />\n<br />\nREGISTER HERE:&nbsp\;<a href="https://app.acuityscheduling.com/schedule/cdd1e758/?appointmentTypeIds[]=89896466">https://app.acuityscheduling.com/schedule/cdd1e758/?appointmentTypeIds[]=89896466&nbsp\;</a></p>\n
LOCATION:The Self Sanctuary 951 W Dakin St Chicago IL\, 60613
UID:e.1406.61558
SEQUENCE:3
DTSTAMP:20260420T124323Z
URL:https://chicago.lakevieweast.com/events/details/partnered-massage-class-05-30-2026-61558
END:VEVENT

END:VCALENDAR
