BEGIN:VCALENDAR
VERSION:2.0
PRODID:-//ChamberMaster//Event Calendar 2.0//EN
METHOD:PUBLISH
X-PUBLISHED-TTL:P3D
REFRESH-INTERVAL:P3D
CALSCALE:GREGORIAN
BEGIN:VEVENT
DTSTART:20230312T200000Z
DTEND:20230312T230000Z
X-MICROSOFT-CDO-ALLDAYEVENT:FALSE
SUMMARY:National Girl Scouts Day Cookie Sale!
DESCRIPTION:The Local Girl Scouts Will Be On Site Doling Out The Goods! Join Us For The Cookie Sale And A New Girl Scout Cookie Cocktail!
X-ALT-DESC;FMTTYPE=text/html:The Local Girl Scouts Will Be On Site Doling Out The Goods! Join Us For The Cookie Sale And A New Girl Scout Cookie Cocktail!
LOCATION:
UID:e.1406.47470
SEQUENCE:3
DTSTAMP:20260419T202934Z
URL:https://chicago.lakevieweast.com/events/details/national-girl-scouts-day-cookie-sale-47470
END:VEVENT

END:VCALENDAR
