BEGIN:VCALENDAR
VERSION:2.0
PRODID:-//ChamberMaster//Event Calendar 2.0//EN
METHOD:PUBLISH
X-PUBLISHED-TTL:P3D
REFRESH-INTERVAL:P3D
CALSCALE:GREGORIAN
BEGIN:VEVENT
DTSTART:20260423T230000Z
DTEND:20260424T010000Z
X-MICROSOFT-CDO-ALLDAYEVENT:FALSE
SUMMARY:Meet & Taste with Izumibashi
DESCRIPTION:Experience the "Seed to Sip" Philosophy of Kanagawa. Join us for an exclusive evening featuring Izumibashi Shuzo\, one of Japan's rare Cultivator Breweries. Unlike most producers\, Izumibashi grows their own sake rice\, maintaining a deep connection to the land and the ecosystem of the Ebina region. Recognizable by the iconic red dragonfly (Aka-tombo) on their labels a symbol of a healthy\, chemical-free environment Izumibashi is renowned for crafting savory\, robust sakes using traditional Kimoto and Yamahai brewing methods.
X-ALT-DESC;FMTTYPE=text/html:<div>\n<div>Experience the &quot\;Seed to Sip&quot\; Philosophy of Kanagawa. Join us for an exclusive evening featuring Izumibashi Shuzo\, one of Japan&rsquo\;s rare Cultivator Breweries. Unlike most producers\, Izumibashi grows their own sake rice\, maintaining a deep connection to the land and the ecosystem of the Ebina region. Recognizable by the iconic red dragonfly (Aka-tombo) on their labels&mdash\;a symbol of a healthy\, chemical-free environment&mdash\;Izumibashi is renowned for crafting savory\, robust sakes using traditional Kimoto and Yamahai brewing methods.</div>\n</div>\n\n<div>&nbsp\;</div>\n
LOCATION:Konbini & Kanpai Wrigleyville 3443 N Sheffield Chicago\, IL 60657
UID:e.1406.61578
SEQUENCE:3
DTSTAMP:20260423T081740Z
URL:https://chicago.lakevieweast.com/events/details/meet-taste-with-izumibashi-61578
END:VEVENT

END:VCALENDAR
