BEGIN:VCALENDAR
VERSION:2.0
PRODID:-//ChamberMaster//Event Calendar 2.0//EN
METHOD:PUBLISH
X-PUBLISHED-TTL:P3D
REFRESH-INTERVAL:P3D
CALSCALE:GREGORIAN
BEGIN:VEVENT
DTSTART:20260426T000000Z
DTEND:20260426T020000Z
X-MICROSOFT-CDO-ALLDAYEVENT:FALSE
SUMMARY:Godzilla Comedy
DESCRIPTION:Godzilla Comedy is crashing into Konbini Kanpai for a night of unstoppable energy\, top-tier laughs\, and full-on Japanese vibes. We're bringing some of the best comedians in Chicago\, a lineup packed with killers who know how to light up a room.
X-ALT-DESC;FMTTYPE=text/html:<span style="color:rgb(0\, 0\, 0)\; font-family:arial\; font-size:10pt">Godzilla Comedy is crashing into Konbini Kanpai for a night of unstoppable energy\, top-tier laughs\, and full-on Japanese vibes. We&rsquo\;re bringing some of the best comedians in Chicago\, a lineup packed with killers who know how to light up a room.</span>
LOCATION:Konbini & Kanpai Wrigleyville 3443 N Sheffield Chicago\, IL
UID:e.1406.61579
SEQUENCE:3
DTSTAMP:20260424T090630Z
URL:https://chicago.lakevieweast.com/events/details/godzilla-comedy-61579
END:VEVENT

END:VCALENDAR
