BEGIN:VCALENDAR
VERSION:2.0
PRODID:-//ChamberMaster//Event Calendar 2.0//EN
METHOD:PUBLISH
X-PUBLISHED-TTL:P3D
REFRESH-INTERVAL:P3D
CALSCALE:GREGORIAN
BEGIN:VEVENT
DTSTART:20260430T230000Z
DTEND:20260501T010000Z
X-MICROSOFT-CDO-ALLDAYEVENT:FALSE
SUMMARY:Meet & Taste with Nanbu Bijin
DESCRIPTION:We are incredibly honored to welcome a true legend of the sake world: Kosuke Kuji\, the 5th-generation president of the renowned Nanbu Bijin brewery.\n\n\n\nHailing from Iwate Prefecture\, Kuji-san is one of the most dynamic ambassadors for craft sake globally. Known for his infectious energy and deep commitment to the "Southern Beauty" style\, he has spent his career championing the clean\, elegant\, and floral profiles that have made his family's brewery a household name among enthusiasts.\n\n\n\nJoin us for this rare opportunity to taste through a curated selection of Nanbu Bijin's finest pours while hearing firsthand from Kuji-san about the traditions of Iwate brewing and his vision for the future of sake.
X-ALT-DESC;FMTTYPE=text/html:<span style="color:rgb(0\, 0\, 0)\; font-family:arial\; font-size:10pt">We are incredibly honored to welcome a true legend of the sake world: Kosuke Kuji\, the 5th-generation president of the renowned Nanbu Bijin brewery.<br />\n<br />\nHailing from Iwate Prefecture\, Kuji-san is one of the most dynamic ambassadors for craft sake globally. Known for his infectious energy and deep commitment to the &quot\;Southern Beauty&quot\; style\, he has spent his career championing the clean\, elegant\, and floral profiles that have made his family&rsquo\;s brewery a household name among enthusiasts.<br />\n<br />\nJoin us for this rare opportunity to taste through a curated selection of Nanbu Bijin&rsquo\;s finest pours while hearing firsthand from Kuji-san about the traditions of Iwate brewing and his vision for the future of sake.</span>
LOCATION:Konbini & Kanpai Wrigleyville 3443 N Sheffield Chicago\, IL
UID:e.1406.61580
SEQUENCE:3
DTSTAMP:20260425T120640Z
URL:http://chicago.lakevieweast.com/events/details/meet-taste-with-nanbu-bijin-61580
END:VEVENT

END:VCALENDAR
