BEGIN:VCALENDAR
VERSION:2.0
PRODID:-//ChamberMaster//Event Calendar 2.0//EN
METHOD:PUBLISH
X-PUBLISHED-TTL:P3D
REFRESH-INTERVAL:P3D
CALSCALE:GREGORIAN
BEGIN:VEVENT
DTSTART:20150214T000000Z
DTEND:20150214T030000Z
X-MICROSOFT-CDO-ALLDAYEVENT:FALSE
SUMMARY:Inkling Galentine's Day Party
DESCRIPTION:Celebrate Galentine's Day at Inkling. Complimentary sweet treats\, drinks\, and a craft project for the ladies.
X-ALT-DESC;FMTTYPE=text/html:Celebrate Galentine&#39\;s Day at Inkling. Complimentary sweet treats\, drinks\, and a craft project for the ladies.&nbsp\;
LOCATION:Inkling 2917 1/2 N Broadway St Chicago IL 60657
UID:e.1406.5603
SEQUENCE:3
DTSTAMP:20260425T104112Z
URL:http://chicago.lakevieweast.com/events/details/inkling-galentine-s-day-party-02-13-2015-5603
END:VEVENT

END:VCALENDAR
