BEGIN:VCALENDAR
VERSION:2.0
PRODID:-//ChamberMaster//Event Calendar 2.0//EN
METHOD:PUBLISH
X-PUBLISHED-TTL:P3D
REFRESH-INTERVAL:P3D
CALSCALE:GREGORIAN
BEGIN:VEVENT
DTSTART:20191122T010000Z
DTEND:20191122T030000Z
X-MICROSOFT-CDO-ALLDAYEVENT:FALSE
SUMMARY:Friendsgiving at Brickhouse Tavern
DESCRIPTION:Celebrate Friendsgiving with us at Budweiser Brickhouse Tavern!\n\nThursday\, November 21st | 7 PM to 9 PM\n\n$25 Tickets include: Thanksgiving Buffet & 2 Drink Tickets\n\nClick here to purchase tickets!\n\n \n\nCarved Turkey | Gravy | Mashed Potatoes | Roasted Sweet Potatoes\n\nGreen Bean Chili Casserole | Cranberry Sauce | Salad | Rolls | Mini Desserts
X-ALT-DESC;FMTTYPE=text/html:<p style="box-sizing: border-box\; text-rendering: optimizelegibility\; -webkit-font-smoothing: antialiased\; margin: 0px\; color: rgb(111\, 114\, 135)\; font-family: Roboto\, sans-serif\; font-size: 16px\;"><span style="color:#000000\;"><span style="font-size:14px\;">Celebrate Friendsgiving with us at Budweiser Brickhouse Tavern!</span></span></p>\n\n<p style="box-sizing: border-box\; text-rendering: optimizelegibility\; -webkit-font-smoothing: antialiased\; margin: 0px\; color: rgb(111\, 114\, 135)\; font-family: Roboto\, sans-serif\; font-size: 16px\;"><span style="color:#000000\;"><span style="font-size:14px\;">Thursday\, November 21st | 7 PM to 9 PM</span></span></p>\n\n<p style="box-sizing: border-box\; text-rendering: optimizelegibility\; -webkit-font-smoothing: antialiased\; margin: 0px\; color: rgb(111\, 114\, 135)\; font-family: Roboto\, sans-serif\; font-size: 16px\;"><span style="color:#000000\;"><span style="font-size:14px\;">$25 Tickets include: Thanksgiving Buffet &amp\; 2 Drink Tickets</span></span></p>\n\n<p style="box-sizing: border-box\; text-rendering: optimizelegibility\; -webkit-font-smoothing: antialiased\; margin: 0px\; color: rgb(111\, 114\, 135)\; font-family: Roboto\, sans-serif\; font-size: 16px\;"><span style="color:#000000\;"><strong><a href="https://www.sevenrooms.com/experiences/brickhousetavern/friendsgiving-4814328274"><span style="font-size:14px\;">Click here to purchase tickets!</span></a></strong></span><br />\n&nbsp\;</p>\n\n<p style="box-sizing: border-box\; text-rendering: optimizelegibility\; -webkit-font-smoothing: antialiased\; margin: 0px\; color: rgb(111\, 114\, 135)\; font-family: Roboto\, sans-serif\; font-size: 16px\;"><span style="color:#000000\;"><span style="font-size:14px\;">Carved Turkey | Gravy | Mashed Potatoes | Roasted Sweet Potatoes</span></span></p>\n\n<p style="box-sizing: border-box\; text-rendering: optimizelegibility\; -webkit-font-smoothing: antialiased\; margin: 0px\; color: rgb(111\, 114\, 135)\; font-family: Roboto\, sans-serif\; font-size: 16px\;"><span style="color:#000000\;"><span style="font-size:14px\;">Green Bean Chili Casserole | Cranberry Sauce | Salad | Rolls | Mini Desserts</span></span></p>\n
LOCATION:3647 N Clark Street
UID:e.1406.38034
SEQUENCE:3
DTSTAMP:20260422T043339Z
URL:http://chicago.lakevieweast.com/events/details/friendsgiving-at-brickhouse-tavern-38034
END:VEVENT

END:VCALENDAR
