BEGIN:VCALENDAR
VERSION:2.0
PRODID:-//ChamberMaster//Event Calendar 2.0//EN
METHOD:PUBLISH
X-PUBLISHED-TTL:P3D
REFRESH-INTERVAL:P3D
CALSCALE:GREGORIAN
BEGIN:VEVENT
DTSTART:20190522T223000Z
DTEND:20190523T003000Z
X-MICROSOFT-CDO-ALLDAYEVENT:FALSE
SUMMARY:Free Wine Tasting at wineHouse
DESCRIPTION:Free Wine Tasting Wednesdays at wineHouse from 5:30-7:30\, Host Changes Weekly
X-ALT-DESC;FMTTYPE=text/html:Free Wine Tasting Wednesdays at wineHouse from 5:30-7:30\, Host Changes Weekly
LOCATION:3164A N Broadway Chicago IL 60657
UID:e.1406.10885
SEQUENCE:3
DTSTAMP:20260425T041505Z
URL:http://chicago.lakevieweast.com/events/details/free-wine-tasting-at-winehouse-05-22-2019-10885
END:VEVENT

END:VCALENDAR
