BEGIN:VCALENDAR
VERSION:2.0
PRODID:-//ChamberMaster//Event Calendar 2.0//EN
METHOD:PUBLISH
X-PUBLISHED-TTL:P3D
REFRESH-INTERVAL:P3D
CALSCALE:GREGORIAN
BEGIN:VEVENT
DTSTART:20200807T170000Z
DTEND:20200808T030000Z
X-MICROSOFT-CDO-ALLDAYEVENT:FALSE
SUMMARY:Dine Out on Broadway
DESCRIPTION:Dine Out on Broadway is back! Join us for socially distanced outdoor dining with your favorite local Broadway restaurants from Belmont to Diversey. View a list of participating restaurants at : lakevieweast.com/dineout
X-ALT-DESC;FMTTYPE=text/html:<span style="color: rgb(29\, 33\, 41)\; font-family: system-ui\, -apple-system\, system-ui\, &quot\;.SFNSText-Regular&quot\;\, sans-serif\; font-size: 14px\; white-space: pre-wrap\;">Dine Out on Broadway is back! Join us for socially distanced outdoor dining with your favorite local Broadway restaurants from Belmont to Diversey. View a list of participating restaurants at : </span><a data-lynx-mode="hover" data-lynx-uri="https://l.facebook.com/l.php?u=http%3A%2F%2Flakevieweast.com%2Fdineout%3Ffbclid%3DIwAR1oz0GJmwMbiZtt1jqK4Jp3urJDZhhD_amwbdXkDWrUUf1IVuVpJ_GWz9U&amp\;h=AT0TYW78eg87nNNL9Ko5-TTqDTeJNAvArQ6LvFVKxqtH4KiUSllgTOO6kUCGlk2F4j_6dfJ4VumL9ajXZXnHviPqwNCjkq-vN-JEjn9UW9MGdm1X3jLr6N7Gf99dQxK42JINIeTUtg" href="http://lakevieweast.com/dineout?fbclid=IwAR1oz0GJmwMbiZtt1jqK4Jp3urJDZhhD_amwbdXkDWrUUf1IVuVpJ_GWz9U" rel="nofollow noopener" style="color: rgb(56\, 88\, 152)\; cursor: pointer\; text-decoration-line: none\; font-family: system-ui\, -apple-system\, system-ui\, &quot\;.SFNSText-Regular&quot\;\, sans-serif\; font-size: 14px\; white-space: pre-wrap\;" target="_blank">lakevieweast.com/dineout</a><br style="color: rgb(29\, 33\, 41)\; font-family: system-ui\, -apple-system\, system-ui\, &quot\;.SFNSText-Regular&quot\;\, sans-serif\; font-size: 14px\; white-space: pre-wrap\;" />\n&nbsp\;
LOCATION:Broadway from Belmont to Diversey
UID:e.1406.38741
SEQUENCE:3
DTSTAMP:20260420T034604Z
URL:http://chicago.lakevieweast.com/events/details/dine-out-on-broadway-38741
END:VEVENT

END:VCALENDAR
